BEGIN:VCALENDAR
VERSION:2.0
PRODID:Events Booking
BEGIN:VEVENT
UID:69e72ddac2e8a
SUMMARY:Dialogmöte om hamnar – Online
DESCRIPTION:Vilka möjligheter och hinder finns för att främja utveckling
 en av landströmsförsörjning av fartyg och infrastruktur för alternativ
 a drivmedel i hamn?
 Energimyndigheten bjuder in till ett digitalt dialog
 möte för att diskutera hinder och möjligheter för utbyggnad av landstr
 ömsförsörjning av fartyg och infrastruktur för alternativa drivmedel i
  hamn.
 Mötet riktar sig främst till representanter för hamnar men det
  är öppet för alla intresserade att delta.
DTSTART:20240925T073000Z
DTEND:20240925T093000Z
DTSTAMP:20240827T052027Z
ORGANIZER;CN=Lighthouse:MAILTO:no-reply@send-mail.se
END:VEVENT
END:VCALENDAR