BEGIN:VCALENDAR
VERSION:2.0
PRODID:Events Booking
BEGIN:VEVENT
UID:69e5ee94e1cd2
SUMMARY:DNV Launch of the Energy Transition Outlook 2023 – Online
DESCRIPTION:
DTSTART:20231011T090000Z
DTEND:20231011T101500Z
DTSTAMP:20230928T090015Z
ORGANIZER;CN=Lighthouse:MAILTO:no-reply@send-mail.se
END:VEVENT
END:VCALENDAR