BEGIN:VCALENDAR
VERSION:2.0
PRODID:Events Booking
BEGIN:VEVENT
UID:69e5ec9802876
SUMMARY:European Green Ammonia Summit 2024 – Düsseldorf
DESCRIPTION:
DTSTART:20240305T230000Z
DTEND:20240306T230000Z
DTSTAMP:20230912T135455Z
ORGANIZER;CN=Lighthouse:MAILTO:no-reply@send-mail.se
END:VEVENT
END:VCALENDAR