BEGIN:VCALENDAR
VERSION:2.0
PRODID:Events Booking
BEGIN:VEVENT
UID:69e72e5d827fc
SUMMARY:Licentiatavhandling: Lokesh Mopuri\, avdelningen för Energy Conver
 sion and Propulsion Systems\, håller sitt licentiatseminarium
DESCRIPTION:
DTSTART:20231215T090000Z
DTEND:20231215T120000Z
DTSTAMP:20231129T093754Z
ORGANIZER;CN=Lighthouse:MAILTO:no-reply@send-mail.se
END:VEVENT
END:VCALENDAR