BEGIN:VCALENDAR
VERSION:2.0
PRODID:Events Booking
BEGIN:VEVENT
UID:69e73285daf5f
SUMMARY:Marketing in Maritime 2023 – London
DESCRIPTION:
DTSTART:20230913T140000Z
DTEND:20230913T180000Z
DTSTAMP:20230808T122706Z
ORGANIZER;CN=Lighthouse:MAILTO:no-reply@send-mail.se
END:VEVENT
END:VCALENDAR