BEGIN:VCALENDAR
VERSION:2.0
PRODID:Events Booking
BEGIN:VEVENT
UID:69e8da5115d2d
SUMMARY:NATO & EDF - Building Business in a Changing Defence Era – Stockh
 olm
DESCRIPTION:
DTSTART:20260428T220000Z
DTEND:20260428T220000Z
DTSTAMP:20260311T131540Z
ORGANIZER;CN=Lighthouse:MAILTO:no-reply@send-mail.se
END:VEVENT
END:VCALENDAR