BEGIN:VCALENDAR
VERSION:2.0
PRODID:Events Booking
BEGIN:VEVENT
UID:69e781b41dccf
SUMMARY:SAVE THE DATE: Vad händer med sjösäkerheten?
DESCRIPTION:
 Vad händer när det värsta inträffar till sjöss? Förra 
 våren arrangerade Lighthouse och Föreningen Svensk Sjöfart en heldag so
 m fokuserade på ansvarsfördelning\, beslutsvägar och beredskap vid sjö
 olyckor. Så vad har hänt generellt på sjösäkerhetsområdet sedan dess
 ? &nbsp\;Den 26 maj hålls ett nytt seminarium där färska forskningsrön
  och en aktuell utredning presenteras. Under dagen ger också aktörer som
  Transportstyrelsen\, Haverikommissionen och Sjöräddningssällskapet sin
  syn på framtidens sjösäkerhet.
 Välkommen!
 Mer info och program in
 om kort
LOCATION:Göteborg\, 426 76\, Sverige
DTSTART:20260526T083000Z
DTEND:20260526T140000Z
DTSTAMP:20260326T111157Z
ORGANIZER;CN=Lighthouse:MAILTO:no-reply@send-mail.se
GEO:57.668684;11.851112
X-APPLE-STRUCTURED-LOCATION;VALUE=URI;X-ADDRESS=Göteborg\, 426 76\, Sverig
 e;X-APPLE-RADIUS=72;X-TITLE=Sjöräddningssällskapet\, Västra Frölunda\
 , Göteborg:57.668684;11.851112
END:VEVENT
END:VCALENDAR