BEGIN:VCALENDAR
VERSION:2.0
PRODID:Events Booking
BEGIN:VEVENT
UID:69e72e277bb4a
SUMMARY:Triple F:s Höstkonferens – Göteborg
DESCRIPTION:
DTSTART:20241015T073000Z
DTEND:20241015T130000Z
DTSTAMP:20240612T121648Z
ORGANIZER;CN=Lighthouse:MAILTO:no-reply@send-mail.se
END:VEVENT
END:VCALENDAR